BEGIN:VCALENDAR
VERSION:2.0
PRODID:-//Social Hikers - ECPv6.15.20//NONSGML v1.0//EN
CALSCALE:GREGORIAN
METHOD:PUBLISH
X-ORIGINAL-URL:https://socialhiker.net
X-WR-CALDESC:Events for Social Hikers
REFRESH-INTERVAL;VALUE=DURATION:PT1H
X-Robots-Tag:noindex
X-PUBLISHED-TTL:PT1H
BEGIN:VTIMEZONE
TZID:America/Los_Angeles
BEGIN:DAYLIGHT
TZOFFSETFROM:-0800
TZOFFSETTO:-0700
TZNAME:PDT
DTSTART:20220313T100000
END:DAYLIGHT
BEGIN:STANDARD
TZOFFSETFROM:-0700
TZOFFSETTO:-0800
TZNAME:PST
DTSTART:20221106T090000
END:STANDARD
BEGIN:DAYLIGHT
TZOFFSETFROM:-0800
TZOFFSETTO:-0700
TZNAME:PDT
DTSTART:20230312T100000
END:DAYLIGHT
BEGIN:STANDARD
TZOFFSETFROM:-0700
TZOFFSETTO:-0800
TZNAME:PST
DTSTART:20231105T090000
END:STANDARD
BEGIN:DAYLIGHT
TZOFFSETFROM:-0800
TZOFFSETTO:-0700
TZNAME:PDT
DTSTART:20240310T100000
END:DAYLIGHT
BEGIN:STANDARD
TZOFFSETFROM:-0700
TZOFFSETTO:-0800
TZNAME:PST
DTSTART:20241103T090000
END:STANDARD
BEGIN:DAYLIGHT
TZOFFSETFROM:-0800
TZOFFSETTO:-0700
TZNAME:PDT
DTSTART:20250309T100000
END:DAYLIGHT
BEGIN:STANDARD
TZOFFSETFROM:-0700
TZOFFSETTO:-0800
TZNAME:PST
DTSTART:20251102T090000
END:STANDARD
BEGIN:DAYLIGHT
TZOFFSETFROM:-0800
TZOFFSETTO:-0700
TZNAME:PDT
DTSTART:20260308T100000
END:DAYLIGHT
BEGIN:STANDARD
TZOFFSETFROM:-0700
TZOFFSETTO:-0800
TZNAME:PST
DTSTART:20261101T090000
END:STANDARD
END:VTIMEZONE
BEGIN:VEVENT
DTSTART;TZID=America/Los_Angeles:20250426T080000
DTEND;TZID=America/Los_Angeles:20250426T150000
DTSTAMP:20260424T143848
CREATED:20250225T212545Z
LAST-MODIFIED:20250225T235823Z
UID:10000092-1745654400-1745679600@socialhiker.net
SUMMARY:Sutton Mountain Group Hike - Central Oregon Six-Pack
DESCRIPTION:Sutton Mountain is a remote beauty near the tiny town of Mitchell\, Oregon and the Painted Hills unit of the John Day Fossil Bed National Monument. \nThis moderate hike is a steady climb to the high-point of Sutton Mountain. We will climb 1\,600 vertical feet over 3.5 miles to the 4\,692′ summit\, then retrace our steps to the trailhead for a total of 7 miles over 3-4 hours (get our detailed trail guide). \nOur plan is to meet arrive at the trailhead at 8:00am and begin hiking at 8:15am. The trailhead is not marked\, so follow the driving directions in the detailed guide linked above. It’s about a 90-minute drive from Bend. \nBring 1-2 liters of water\, snacks\, sun protection\, and layers. The trail offers little shade or protection from the wind. \nAfterwards\, we are headed to Mitchell and Tiger Town Brewing for lunch and a cold beverage (maybe the namesake Sutton Mountain IPA?). After lunch we head home\, or take an optional side trip to the Painted Hills. \nThis hike is the first in the Central Oregon Six-Pack of Peaks Challenge — we will have info and can answer any questions you have about the challenge at the hike. You can check out recent trip reports from other challengers to get a feel for the hike. \nFriendly dogs are allowed; I will be bringing my two labradoodles Farley and Lucy\, and the last two times I’ve hiked this I’ve been joined by the local ranch dog\, Patch 2.0 who hiked all the way up and back with us (sort of a “trail ambassador”). \nLeave a comment below so we know you’re coming. Note that there is no cell service at the trailhead\, so be sure to input the directions into your map app before you head out. The turn off to the parking area is not signed and easy to miss. There is a wire fence/gate that needs to be opened to drive into the parking area.
URL:https://socialhiker.net/event/sutton-mountain-group-hike-central-oregon-six-pack/
LOCATION:Sutton Mountain Trailhead\, MV7G+H9J Mitchell\, Oregon\, Mitchell\, OR
CATEGORIES:Group Hike
ATTACH;FMTTYPE=image/jpeg:https://cdn1.socialhiker.net/wp-content/uploads/2025/02/25155727/Sutton-Mountain-1600x900-1.jpg
ORGANIZER;CN="Jeff Hester":MAILTO:jeff@socialadventures.net
END:VEVENT
BEGIN:VEVENT
DTSTART;TZID=America/Los_Angeles:20230204T080000
DTEND;TZID=America/Los_Angeles:20230204T170000
DTSTAMP:20260424T143848
CREATED:20230103T181030Z
LAST-MODIFIED:20230103T181030Z
UID:10000042-1675497600-1675530000@socialhiker.net
SUMMARY:Group Hike up Sutton Mountain
DESCRIPTION:Sutton Mountain is a remote beauty near the tiny town of Mitchell\, Oregon and the Painted Hills unit of the John Day Fossil Bed National Monument. Depending on the weather between now and then\, there may be snow. The trail is mild\, but microspikes might be helpful depending on the amount of snow and ice. \nThis moderate hike is a steady climb to the high-point of Sutton Mountain. We will climb 1\,600 vertical feet over 3.5 miles to the 4\,692′ summit\, then retrace our steps to the trailhead for a total of 7 miles over 3-4 hours (get our detailed trail guide). \nOur plan is to meet arrive at the trailhead at 8:00am and begin hiking at 8:15am. The trailhead is not marked\, so follow the driving directions in the detailed guide linked above. It’s about a 90-minute drive from Bend. \nBring 1-2 liters of water\, snacks\, sun protection\, and layers. The trail offers little shade or protection from the wind. \nAfterwards\, we are headed to Mitchell and Tiger Town Brewing for lunch and a cold beverage (maybe the namesake Sutton Mountain IPA?).\nAfter lunch we head home\, or take an optional side trip to the Painted Hills. \nThis hike is the first in the 2023 Central Oregon Six-Pack of Peaks Challenge — we will have info and can answer any questions you have about the challenge at the hike. You can check out recent trip reports from other challengers to get a feel for the hike. \nFriendly dogs are allowed; I will be bringing my two labradoodles Farley and Lucy\, and the last two times I’ve hiked this I’ve been joined by the local ranch dog\, Patch 2.0 who hiked all the way up and back with us (sort of a “trail ambassador”). \nRSVP at the event link below (with Bend Hiking Meetup) so we know you’re coming. Note that there is no cell service at the trailhead\, so be sure to input the directions into your map app before you head out. The turn off to the parking area is not signed and easy to miss. There is a wire fence/gate that needs to be opened to drive into the parking area.
URL:https://socialhiker.net/event/group-hike-up-sutton-mountain/
LOCATION:Sutton Mountain Trailhead\, MV7G+H9J Mitchell\, Oregon\, Mitchell\, OR
CATEGORIES:Group Hike
ATTACH;FMTTYPE=image/jpeg:https://cdn1.socialhiker.net/wp-content/uploads/2023/01/03101001/Sutton-Mountain-Group-Hike.jpg
ORGANIZER;CN="Jeff Hester":MAILTO:jeff@socialadventures.net
END:VEVENT
END:VCALENDAR